BEGIN:VCALENDAR
VERSION:2.0
PRODID:-//Community Health | Mid-Atlantic States | Kaiser Permanente® | Kaiser Permanente Mid-Atlantic States - ECPv6.15.12.2//NONSGML v1.0//EN
CALSCALE:GREGORIAN
METHOD:PUBLISH
X-WR-CALNAME:Community Health | Mid-Atlantic States | Kaiser Permanente® | Kaiser Permanente Mid-Atlantic States
X-ORIGINAL-URL:https://communityhealth-midatlantic.kaiserpermanente.org
X-WR-CALDESC:Events for Community Health | Mid-Atlantic States | Kaiser Permanente® | Kaiser Permanente Mid-Atlantic States
REFRESH-INTERVAL;VALUE=DURATION:PT1H
X-Robots-Tag:noindex
X-PUBLISHED-TTL:PT1H
BEGIN:VTIMEZONE
TZID:America/New_York
BEGIN:DAYLIGHT
TZOFFSETFROM:-0500
TZOFFSETTO:-0400
TZNAME:EDT
DTSTART:20240310T070000
END:DAYLIGHT
BEGIN:STANDARD
TZOFFSETFROM:-0400
TZOFFSETTO:-0500
TZNAME:EST
DTSTART:20241103T060000
END:STANDARD
BEGIN:DAYLIGHT
TZOFFSETFROM:-0500
TZOFFSETTO:-0400
TZNAME:EDT
DTSTART:20250309T070000
END:DAYLIGHT
BEGIN:STANDARD
TZOFFSETFROM:-0400
TZOFFSETTO:-0500
TZNAME:EST
DTSTART:20251102T060000
END:STANDARD
BEGIN:DAYLIGHT
TZOFFSETFROM:-0500
TZOFFSETTO:-0400
TZNAME:EDT
DTSTART:20260308T070000
END:DAYLIGHT
BEGIN:STANDARD
TZOFFSETFROM:-0400
TZOFFSETTO:-0500
TZNAME:EST
DTSTART:20261101T060000
END:STANDARD
END:VTIMEZONE
BEGIN:VEVENT
DTSTART;TZID=America/New_York:20250320T090000
DTEND;TZID=America/New_York:20250320T140000
DTSTAMP:20260422T215520
CREATED:20250303T074145Z
LAST-MODIFIED:20250331T000722Z
UID:10000081-1742461200-1742479200@communityhealth-midatlantic.kaiserpermanente.org
SUMMARY:Laurel Advocacy and Referral Service
DESCRIPTION:On Thursday\, February 6\, Kaiser Permanente is proud to bring the Mobile Health Vehicle to the Laurel Advocacy and Referral Services\, Inc.\, serving homeless and low-income families and individuals in Central Maryland including parts of Prince George’s\, Howard\, and Anne Arundel counties. Join us for no-cost clinical services\, health resources\, and more!
URL:https://communityhealth-midatlantic.kaiserpermanente.org/event-plugin/laurel-advocacy-and-referral-service/2025-03-20/
LOCATION:Laurel Advocacy and Referral Service\, 309 Laurel Avenue\, Laurel\, Maryland\, 20707
ATTACH;FMTTYPE=image/jpeg:https://communityhealth-midatlantic.kaiserpermanente.org/wp-content/uploads/2025/03/KP-x-LARS-e1743377373458.jpg
END:VEVENT
END:VCALENDAR